BEGIN:VCALENDAR
VERSION:2.0
PRODID:-//Cotswold Edge Scout District - ECPv6.15.20//NONSGML v1.0//EN
CALSCALE:GREGORIAN
METHOD:PUBLISH
X-ORIGINAL-URL:https://cesd.org.uk
X-WR-CALDESC:Events for Cotswold Edge Scout District
REFRESH-INTERVAL;VALUE=DURATION:PT1H
X-Robots-Tag:noindex
X-PUBLISHED-TTL:PT1H
BEGIN:VTIMEZONE
TZID:Europe/London
BEGIN:DAYLIGHT
TZOFFSETFROM:+0000
TZOFFSETTO:+0100
TZNAME:BST
DTSTART:20210328T010000
END:DAYLIGHT
BEGIN:STANDARD
TZOFFSETFROM:+0100
TZOFFSETTO:+0000
TZNAME:GMT
DTSTART:20211031T010000
END:STANDARD
BEGIN:DAYLIGHT
TZOFFSETFROM:+0000
TZOFFSETTO:+0100
TZNAME:BST
DTSTART:20220327T010000
END:DAYLIGHT
BEGIN:STANDARD
TZOFFSETFROM:+0100
TZOFFSETTO:+0000
TZNAME:GMT
DTSTART:20221030T010000
END:STANDARD
BEGIN:DAYLIGHT
TZOFFSETFROM:+0000
TZOFFSETTO:+0100
TZNAME:BST
DTSTART:20230326T010000
END:DAYLIGHT
BEGIN:STANDARD
TZOFFSETFROM:+0100
TZOFFSETTO:+0000
TZNAME:GMT
DTSTART:20231029T010000
END:STANDARD
END:VTIMEZONE
BEGIN:VEVENT
DTSTART;TZID=Europe/London:20220204T100000
DTEND;TZID=Europe/London:20220204T100000
DTSTAMP:20260420T080949
CREATED:20220125T213602Z
LAST-MODIFIED:20220125T213602Z
UID:10000085-1643968800-1643968800@cesd.org.uk
SUMMARY:Mod 14 Supporting young people
DESCRIPTION:Adult training course for woodbadge.
URL:https://cesd.org.uk/event/mod-14-supporting-young-people/
LOCATION:Woodhouse Park\, Fernhill\, Almondsbury\, South Gloucestershire\, BS32 4LX\, United Kingdom
CATEGORIES:Training
ATTACH;FMTTYPE=image/jpeg:https://cesd.org.uk/wp-content/uploads/2022/01/training-9V0YsH.tmp_.jpg
GEO:51.5640429;-2.5604611
X-APPLE-STRUCTURED-LOCATION;VALUE=URI;X-ADDRESS=Woodhouse Park Fernhill Almondsbury South Gloucestershire BS32 4LX United Kingdom;X-APPLE-RADIUS=500;X-TITLE=Fernhill:geo:-2.5604611,51.5640429
END:VEVENT
BEGIN:VEVENT
DTSTART;TZID=Europe/London:20220204T100000
DTEND;TZID=Europe/London:20220204T100000
DTSTAMP:20260420T080949
CREATED:20220125T213602Z
LAST-MODIFIED:20220125T213602Z
UID:10000086-1643968800-1643968800@cesd.org.uk
SUMMARY:Mod 15 Promoting Positive Behaviour
DESCRIPTION:Adult training course for woodbadge.
URL:https://cesd.org.uk/event/mod-15-promoting-positive-behaviour/
LOCATION:Woodhouse Park\, Fernhill\, Almondsbury\, South Gloucestershire\, BS32 4LX\, United Kingdom
CATEGORIES:Training
ATTACH;FMTTYPE=image/jpeg:https://cesd.org.uk/wp-content/uploads/2022/01/training-9V0YsH.tmp_.jpg
GEO:51.5640429;-2.5604611
X-APPLE-STRUCTURED-LOCATION;VALUE=URI;X-ADDRESS=Woodhouse Park Fernhill Almondsbury South Gloucestershire BS32 4LX United Kingdom;X-APPLE-RADIUS=500;X-TITLE=Fernhill:geo:-2.5604611,51.5640429
END:VEVENT
END:VCALENDAR