BEGIN:VCALENDAR
VERSION:2.0
PRODID:-//Cotswold Edge Scout District - ECPv6.15.20//NONSGML v1.0//EN
CALSCALE:GREGORIAN
METHOD:PUBLISH
X-WR-CALNAME:Cotswold Edge Scout District
X-ORIGINAL-URL:https://cesd.org.uk
X-WR-CALDESC:Events for Cotswold Edge Scout District
REFRESH-INTERVAL;VALUE=DURATION:PT1H
X-Robots-Tag:noindex
X-PUBLISHED-TTL:PT1H
BEGIN:VTIMEZONE
TZID:Europe/London
BEGIN:DAYLIGHT
TZOFFSETFROM:+0000
TZOFFSETTO:+0100
TZNAME:BST
DTSTART:20210328T010000
END:DAYLIGHT
BEGIN:STANDARD
TZOFFSETFROM:+0100
TZOFFSETTO:+0000
TZNAME:GMT
DTSTART:20211031T010000
END:STANDARD
BEGIN:DAYLIGHT
TZOFFSETFROM:+0000
TZOFFSETTO:+0100
TZNAME:BST
DTSTART:20220327T010000
END:DAYLIGHT
BEGIN:STANDARD
TZOFFSETFROM:+0100
TZOFFSETTO:+0000
TZNAME:GMT
DTSTART:20221030T010000
END:STANDARD
BEGIN:DAYLIGHT
TZOFFSETFROM:+0000
TZOFFSETTO:+0100
TZNAME:BST
DTSTART:20230326T010000
END:DAYLIGHT
BEGIN:STANDARD
TZOFFSETFROM:+0100
TZOFFSETTO:+0000
TZNAME:GMT
DTSTART:20231029T010000
END:STANDARD
BEGIN:DAYLIGHT
TZOFFSETFROM:+0000
TZOFFSETTO:+0100
TZNAME:BST
DTSTART:20240331T010000
END:DAYLIGHT
BEGIN:STANDARD
TZOFFSETFROM:+0100
TZOFFSETTO:+0000
TZNAME:GMT
DTSTART:20241027T010000
END:STANDARD
BEGIN:DAYLIGHT
TZOFFSETFROM:+0000
TZOFFSETTO:+0100
TZNAME:BST
DTSTART:20250330T010000
END:DAYLIGHT
BEGIN:STANDARD
TZOFFSETFROM:+0100
TZOFFSETTO:+0000
TZNAME:GMT
DTSTART:20251026T010000
END:STANDARD
END:VTIMEZONE
BEGIN:VEVENT
DTSTART;TZID=Europe/London:20221209T000000
DTEND;TZID=Europe/London:20221211T235959
DTSTAMP:20260422T180812
CREATED:20220503T184907Z
LAST-MODIFIED:20220503T184908Z
UID:10000102-1670544000-1670803199@cesd.org.uk
SUMMARY:Woodhouse Park Santa Trail
DESCRIPTION:Save the Date: \n\n\n\n9th\, 10th\, 11th December 2022\n\n\n\nWoodhouse Parks Santa Trail was brand new in 2021 and a massive success!  \n\n\n\nCome and share the magic of Christmas with us (and Santa!)\, again in 2022. \n\n\n\nYour group will take a walk through the 36 acre parkland searching for festive clues before arriving at Santa’s Christmas Barn. \n\n\n\nThere is a gift for every child and a chance for you to take your own picture with Santa himself. \n\n\n\nMore details to follow nearer the time.
URL:https://cesd.org.uk/event/woodhouse-park-santa-trail/
LOCATION:Mafeking Hall\, Serridge Lane\, Coalpit Heath\, South Gloucestershire\, BS36 2UF
CATEGORIES:Beavers,Cubs,Explorers,Leaders,Management,Scouts,Young Leaders
ATTACH;FMTTYPE=image/png:https://cesd.org.uk/wp-content/uploads/2022/05/ST_Banner-2048x521-1.png
GEO:51.5164903;-2.4668009
X-APPLE-STRUCTURED-LOCATION;VALUE=URI;X-ADDRESS=Mafeking Hall Serridge Lane Coalpit Heath South Gloucestershire BS36 2UF;X-APPLE-RADIUS=500;X-TITLE=Serridge Lane:geo:-2.4668009,51.5164903
END:VEVENT
BEGIN:VEVENT
DTSTART;TZID=Europe/London:20231011T190000
DTEND;TZID=Europe/London:20231011T210000
DTSTAMP:20260422T180812
CREATED:20230906T182331Z
LAST-MODIFIED:20231010T195114Z
UID:10000145-1697050800-1697058000@cesd.org.uk
SUMMARY:District Annual General Meeting 2023
DESCRIPTION:To: All members of the Cotswold Edge District Scout Council It is hoped that everybody will be able to attend this meeting below.Date:                    Wednesday 11th October 2023Time:                    7pmVenue:                 The Function Room\, The Lawns\, Church Lane\, Yate\, BS37 5BG \n\n\n\nWhere appropriate\, uniform should be worn.To stand for election to the District Executive Committee\,  Please contact Dean Ashpole-Chapman\, District Lead Volunteer\, dc@cesd.org.uk \n\n\n\n\n1. Introduction and welcome  \n\n\n\n2. Apologies for absence \n\n\n\n3. To approve the minutes of the 2022 Annual General Meeting \n\n\n\n4. The District Commissioner’s review \n\n\n\n5. To receive and consider the Annual Report of the District Trustee Board including the annual Statement of the Accounts \n\n\n\n6. To approve the Model Constitution for the District \n\n\n\n7. To approve the District Commissioner’s nomination of the District Chair \n\n\n\n8. Election of the District Secretary \n\n\n\n9. Election of the District Treasurer \n\n\n\n10. Elections of members to the District Trustee Board \n\n\n\n11. To approve the District Commissioner’s nominations to the District Trustee Board \n\n\n\n12. To appoint the Independent Examiner \n\n\n\n13. Presentations \n\n\n\n14. Comments by County Commissioner or their representative \n\n\n\n15. Close\n\n\n\n\n\n\n\n\n\n\n\n\nAnnual-Report-2022-23Download
URL:https://cesd.org.uk/event/agm-2023/
LOCATION:The Lawns\, Church Road\, Yate\, BS37 5BG
CATEGORIES:Leaders,Management
ATTACH;FMTTYPE=image/png:https://cesd.org.uk/wp-content/uploads/2020/08/62bb3b_4ce95cd0d6a74a6aa67bff25e2b2436fmv2.png
ORGANIZER;CN="Dean Ashpole-Chapman":MAILTO:dean.ashpole-chapman@cesd.org.uk
GEO:51.543501;-2.4124904
X-APPLE-STRUCTURED-LOCATION;VALUE=URI;X-ADDRESS=The Lawns Church Road Yate BS37 5BG;X-APPLE-RADIUS=500;X-TITLE=Church Road:geo:-2.4124904,51.543501
END:VEVENT
BEGIN:VEVENT
DTSTART;TZID=Europe/London:20240118T193000
DTEND;TZID=Europe/London:20240118T220000
DTSTAMP:20260422T180812
CREATED:20231117T134429Z
LAST-MODIFIED:20231117T134614Z
UID:10000151-1705606200-1705615200@cesd.org.uk
SUMMARY:District Trustee Board Meeting
DESCRIPTION:Bi-Monthly Meeting of the District Scout Council Trustee Board.
URL:https://cesd.org.uk/event/district-trustee-board-meeting-2/2024-01-18/
LOCATION:Mafeking Hall\, Serridge Lane\, Coalpit Heath\, South Gloucestershire\, BS36 2UF
CATEGORIES:Management
ATTACH;FMTTYPE=image/jpeg:https://cesd.org.uk/wp-content/uploads/2023/11/IMG_0048-scaled-e1699989321994.jpeg
GEO:51.5164903;-2.4668009
X-APPLE-STRUCTURED-LOCATION;VALUE=URI;X-ADDRESS=Mafeking Hall Serridge Lane Coalpit Heath South Gloucestershire BS36 2UF;X-APPLE-RADIUS=500;X-TITLE=Serridge Lane:geo:-2.4668009,51.5164903
END:VEVENT
BEGIN:VEVENT
DTSTART;TZID=Europe/London:20240321T193000
DTEND;TZID=Europe/London:20240321T220000
DTSTAMP:20260422T180812
CREATED:20231117T134429Z
LAST-MODIFIED:20231117T134614Z
UID:10000152-1711049400-1711058400@cesd.org.uk
SUMMARY:District Trustee Board Meeting
DESCRIPTION:Bi-Monthly Meeting of the District Scout Council Trustee Board.
URL:https://cesd.org.uk/event/district-trustee-board-meeting-2/2024-03-21/
LOCATION:Mafeking Hall\, Serridge Lane\, Coalpit Heath\, South Gloucestershire\, BS36 2UF
CATEGORIES:Management
ATTACH;FMTTYPE=image/jpeg:https://cesd.org.uk/wp-content/uploads/2023/11/IMG_0048-scaled-e1699989321994.jpeg
GEO:51.5164903;-2.4668009
X-APPLE-STRUCTURED-LOCATION;VALUE=URI;X-ADDRESS=Mafeking Hall Serridge Lane Coalpit Heath South Gloucestershire BS36 2UF;X-APPLE-RADIUS=500;X-TITLE=Serridge Lane:geo:-2.4668009,51.5164903
END:VEVENT
BEGIN:VEVENT
DTSTART;TZID=Europe/London:20240516T193000
DTEND;TZID=Europe/London:20240516T220000
DTSTAMP:20260422T180812
CREATED:20231117T134429Z
LAST-MODIFIED:20231117T134614Z
UID:10000153-1715887800-1715896800@cesd.org.uk
SUMMARY:District Trustee Board Meeting
DESCRIPTION:Bi-Monthly Meeting of the District Scout Council Trustee Board.
URL:https://cesd.org.uk/event/district-trustee-board-meeting-2/2024-05-16/
LOCATION:Mafeking Hall\, Serridge Lane\, Coalpit Heath\, South Gloucestershire\, BS36 2UF
CATEGORIES:Management
ATTACH;FMTTYPE=image/jpeg:https://cesd.org.uk/wp-content/uploads/2023/11/IMG_0048-scaled-e1699989321994.jpeg
GEO:51.5164903;-2.4668009
X-APPLE-STRUCTURED-LOCATION;VALUE=URI;X-ADDRESS=Mafeking Hall Serridge Lane Coalpit Heath South Gloucestershire BS36 2UF;X-APPLE-RADIUS=500;X-TITLE=Serridge Lane:geo:-2.4668009,51.5164903
END:VEVENT
BEGIN:VEVENT
DTSTART;TZID=Europe/London:20240718T193000
DTEND;TZID=Europe/London:20240718T220000
DTSTAMP:20260422T180812
CREATED:20231117T134429Z
LAST-MODIFIED:20231117T134614Z
UID:10000154-1721331000-1721340000@cesd.org.uk
SUMMARY:District Trustee Board Meeting
DESCRIPTION:Bi-Monthly Meeting of the District Scout Council Trustee Board.
URL:https://cesd.org.uk/event/district-trustee-board-meeting-2/2024-07-18/
LOCATION:Mafeking Hall\, Serridge Lane\, Coalpit Heath\, South Gloucestershire\, BS36 2UF
CATEGORIES:Management
ATTACH;FMTTYPE=image/jpeg:https://cesd.org.uk/wp-content/uploads/2023/11/IMG_0048-scaled-e1699989321994.jpeg
GEO:51.5164903;-2.4668009
X-APPLE-STRUCTURED-LOCATION;VALUE=URI;X-ADDRESS=Mafeking Hall Serridge Lane Coalpit Heath South Gloucestershire BS36 2UF;X-APPLE-RADIUS=500;X-TITLE=Serridge Lane:geo:-2.4668009,51.5164903
END:VEVENT
BEGIN:VEVENT
DTSTART;TZID=Europe/London:20241121T193000
DTEND;TZID=Europe/London:20241121T220000
DTSTAMP:20260422T180812
CREATED:20231117T134429Z
LAST-MODIFIED:20231117T134614Z
UID:10000155-1732217400-1732226400@cesd.org.uk
SUMMARY:District Trustee Board Meeting
DESCRIPTION:Bi-Monthly Meeting of the District Scout Council Trustee Board.
URL:https://cesd.org.uk/event/district-trustee-board-meeting-2/2024-11-21/
LOCATION:Mafeking Hall\, Serridge Lane\, Coalpit Heath\, South Gloucestershire\, BS36 2UF
CATEGORIES:Management
ATTACH;FMTTYPE=image/jpeg:https://cesd.org.uk/wp-content/uploads/2023/11/IMG_0048-scaled-e1699989321994.jpeg
GEO:51.5164903;-2.4668009
X-APPLE-STRUCTURED-LOCATION;VALUE=URI;X-ADDRESS=Mafeking Hall Serridge Lane Coalpit Heath South Gloucestershire BS36 2UF;X-APPLE-RADIUS=500;X-TITLE=Serridge Lane:geo:-2.4668009,51.5164903
END:VEVENT
END:VCALENDAR