BEGIN:VCALENDAR
VERSION:2.0
PRODID:-//Cotswold Edge Scout District - ECPv6.15.20//NONSGML v1.0//EN
CALSCALE:GREGORIAN
METHOD:PUBLISH
X-WR-CALNAME:Cotswold Edge Scout District
X-ORIGINAL-URL:https://cesd.org.uk
X-WR-CALDESC:Events for Cotswold Edge Scout District
REFRESH-INTERVAL;VALUE=DURATION:PT1H
X-Robots-Tag:noindex
X-PUBLISHED-TTL:PT1H
BEGIN:VTIMEZONE
TZID:Europe/London
BEGIN:DAYLIGHT
TZOFFSETFROM:+0000
TZOFFSETTO:+0100
TZNAME:BST
DTSTART:20210328T010000
END:DAYLIGHT
BEGIN:STANDARD
TZOFFSETFROM:+0100
TZOFFSETTO:+0000
TZNAME:GMT
DTSTART:20211031T010000
END:STANDARD
BEGIN:DAYLIGHT
TZOFFSETFROM:+0000
TZOFFSETTO:+0100
TZNAME:BST
DTSTART:20220327T010000
END:DAYLIGHT
BEGIN:STANDARD
TZOFFSETFROM:+0100
TZOFFSETTO:+0000
TZNAME:GMT
DTSTART:20221030T010000
END:STANDARD
BEGIN:DAYLIGHT
TZOFFSETFROM:+0000
TZOFFSETTO:+0100
TZNAME:BST
DTSTART:20230326T010000
END:DAYLIGHT
BEGIN:STANDARD
TZOFFSETFROM:+0100
TZOFFSETTO:+0000
TZNAME:GMT
DTSTART:20231029T010000
END:STANDARD
END:VTIMEZONE
BEGIN:VEVENT
DTSTART;TZID=Europe/London:20220808T193000
DTEND;TZID=Europe/London:20220808T220000
DTSTAMP:20260420T063601
CREATED:20210914T210050Z
LAST-MODIFIED:20251118T144856Z
UID:10000215-1659987000-1659996000@cesd.org.uk
SUMMARY:MiDAS Induction Theory Session
DESCRIPTION:This session is for those who have not previously completed MiDAS Driver training or have held a MiDAS Minibus Driver Certificate which has expired some time ago and need to complete the induction training to obtain a MiDAS Minibus Driver Certificate before taking any members of our district in a minibus.  Please take a look at our district MiDAS webpage for full details of the training and the costs involved.  If you wish to attend this training please send an email to MiDAS@cesd.org.uk providing your licence details as requested on the webpage. \n\n\n\nThe theory session will include the multiple choice theory test and it may be possible to have your on the road driving assessment the same day / same weekend. \n\n\n\nIf you are not available on this date then please e-mail MiDAS@cesd.org.uk as an additional session could be arranged\, or may already be being planned and not yet on the calendar. \n\n\n\nVENUE: To be confirmed – Please offer your venue
URL:https://cesd.org.uk/event/midas-induction-theory-session/2022-08-08/
CATEGORIES:Leaders
END:VEVENT
BEGIN:VEVENT
DTSTART;TZID=Europe/London:20220808T193000
DTEND;TZID=Europe/London:20220808T220000
DTSTAMP:20260420T063601
CREATED:20221229T214816Z
LAST-MODIFIED:20221229T214948Z
UID:10000094-1659987000-1659996000@cesd.org.uk
SUMMARY:MiDAS Induction Theory Session
DESCRIPTION:This session is for those who have not previously completed MiDAS Driver training or have held a MiDAS Minibus Driver Certificate which has expired some time ago and need to complete the induction training to obtain a MiDAS Minibus Driver Certificate before taking any members of our district in a minibus.  Please take a look at our district MiDAS webpage for full details of the training and the costs involved.  If you wish to attend this training please send an email to MiDAS@cesd.org.uk providing your licence details as requested on the webpage. \n\n\n\nThe theory session will include the multiple choice theory test and it may be possible to have your on the road driving assessment the same day / same weekend. \n\n\n\nIf you are not available on this date then please e-mail MiDAS@cesd.org.uk as an additional session could be arranged\, or may already be being planned and not yet on the calendar. \n\n\n\nVENUE: To be confirmed – Please offer your venue
URL:https://cesd.org.uk/event/midas-induction-theory-session-5/
CATEGORIES:Leaders
END:VEVENT
BEGIN:VEVENT
DTSTART;TZID=Europe/London:20220809T193000
DTEND;TZID=Europe/London:20220809T193000
DTSTAMP:20260420T063601
CREATED:20220125T213653Z
LAST-MODIFIED:20220125T213653Z
UID:10000105-1660073400-1660073400@cesd.org.uk
SUMMARY:Mod 19 International
DESCRIPTION:Adult training course for woodbadge.
URL:https://cesd.org.uk/event/mod-19-international-2/
LOCATION:Woodhouse Park\, Fernhill\, Almondsbury\, South Gloucestershire\, BS32 4LX\, United Kingdom
CATEGORIES:Training
ATTACH;FMTTYPE=image/jpeg:https://cesd.org.uk/wp-content/uploads/2022/01/training-9V0YsH.tmp_.jpg
GEO:51.5640429;-2.5604611
X-APPLE-STRUCTURED-LOCATION;VALUE=URI;X-ADDRESS=Woodhouse Park Fernhill Almondsbury South Gloucestershire BS32 4LX United Kingdom;X-APPLE-RADIUS=500;X-TITLE=Fernhill:geo:-2.5604611,51.5640429
END:VEVENT
END:VCALENDAR